BEGIN:VCALENDAR
PRODID:-//Microsoft Corporation//Outlook 11.0 MIMEDIR//EN
VERSION:2.0
METHOD:PUBLISH
BEGIN:VEVENT
DTSTART:20260421T100000
DTEND:20260823T170000
LOCATION:Creaviva im Zentrum Paul Klee Monument im Fruchtland 3, 3006 Bern
TRANSP:OPAQUE
RRULE:FREQ=WEEKLY;INTERVAL=1;UNTIL=20260823T170000;WKST=MO;BYDAY=TU,WE,TH,FR,SA,SU
UID:1539226b-4729-4ec6-b888-ce0e5f96dc30-0
DTSTAMP:20260421T100000
DESCRIPTION:Das Creaviva entwickelt seine Interaktiven Ausstellungen parallel zu den Ausstellungen im Zentrum Paul Klee. Die Übersetzung der Kunst in den Ausstellungssälen in interaktive Aktionsräume im Loft des Creaviva ermöglicht allen Besuchenden einen künstlerischen Zugang über das eigenständige Gestalten. \n\nDie Ausstellung "Raumcollage. Materialien erzählen" ist die interaktive Antwort auf die Ausstellung "Schwitters. Grenzgänger der Avantgarde" im Zentrum Paul Klee.\nFür Kurt Schwitters war alles «Merz»: Kunstwerk, Text, Raum und sogar das eigene Zuhause. Über Jahre hinweg verwandelte er seine Wohnung in Hannover in den legendären «Merzbau» – eine begehbare, stetig wachsende Kunstgrotte aus Holz, Gips und Fundstücken. Inspiriert von diesem Gesamtkunstwerk hat das Creaviva eine eigene Raumcollage geschaffen. Ausgediente Möbel aus Haushalten rund um Bern, Recyclingmaterial, Restposten und Fundstücke wurden gesammelt, neu kombiniert und in einen verwinkelten, weissen Bau überführt. Nischen, Höhlen, Wände und unzählige Schubladen eröffnen überraschende Perspektiven und laden zum Entdecken ein.\n\n\n\nhttps://www.zpk.org/de/ausstellung/raumcollage-materialien-erzaehlen\n\nKontakt\nCreaviva\nMonument im Fruchtland 3\n3006 Bern\n+41 31 359 01 61\n\nVerfügbarkeit / Datum, Zeit\n20.3.2026 - 23.8.2026 10:00 - 17:00 Di, Mi, Do, Fr, Sa, So\n\nPreis\nKostenlos\n\n\nDas Angebot im Detail: https://www.guidle.com/angebote/1238584734/interaktive_ausstellung_raumcollage_materialien_erzahlen/bern\nQuelle: https://www.bernerbauernhof.ch
SUMMARY:Interaktive Ausstellung: Raumcollage. Materialien erzählen 
PRIORITY:5
X-MICROSOFT-CDO-IMPORTANCE:1
CLASS:PUBLIC
BEGIN:VALARM
TRIGGER:-P1D
ACTION:DISPLAY
DESCRIPTION:Reminder
END:VALARM
END:VEVENT
END:VCALENDAR