BEGIN:VCALENDAR
PRODID:-//Microsoft Corporation//Outlook 11.0 MIMEDIR//EN
VERSION:2.0
METHOD:PUBLISH
BEGIN:VEVENT
DTSTART:20260421T140000
DTEND:20260425T170000
LOCATION:Galerie Kornfeld Laupenstrasse 41, 3008 Bern
TRANSP:OPAQUE
RRULE:FREQ=WEEKLY;INTERVAL=1;UNTIL=20260425T170000;WKST=MO;BYDAY=MO,TU,WE,TH,FR
UID:0f3c7b6f-4e60-4dbe-ad3d-09c0dd4938c2-0
DTSTAMP:20260421T140000
DESCRIPTION:Die Galerie Kornfeld widmet dem Thuner Künstler Dominik Stauch die erste Ausstellung in ihren Räumlichkeiten. Stauch arbeitet an einer konsequenten "Erweiterung" der Malerei, indem er unterschiedlichste Medien (Acrylmalerei, digitale Prints, Computeranimationen, Installationen und Skulpturen) kombiniert, dabei aber stets der Farbtheorie treu bleibt. Er ist Maler geblieben, das stimmige Zusammenfügen von Farben und Formen ist sein Ziel. Die Reduktion auf geometrische Grundformen lässt ihm dabei den nötigen Spielraum, seinen konzeptuellen Ansatz mit neuester Technik in Einklang zu bringen.\n\nhttps://www.kornfeld.ch/d321.html\n\nKontakt\nGalerie Kornfeld Auktionen AG\nKatia Masson\nPostfach\nLaupenstrasse 41\n3001 Bern\n031 552 55 55\n031 552 55 58\n\nVerfügbarkeit / Datum, Zeit\n12.3.2026 - 25.4.2026 14:00 - 17:00 Mo, Di, Mi, Do, Fr\n12.3.2026 - 25.4.2026 10:00 - 14:00 Sa\n\nDie Galerie bleibt über die Osterfeiertage geschlossen\nKarfreitag, 3. April bis Ostermontag, 6. April 2026\n\n\nDas Angebot im Detail: https://www.guidle.com/angebote/1243595760/dominik_stauch_-_my_ranch_not_my_ranch/bern\nQuelle: https://www.bernerbauernhof.ch
SUMMARY:DOMINIK STAUCH - My Ranch, Not my Ranch
PRIORITY:5
X-MICROSOFT-CDO-IMPORTANCE:1
CLASS:PUBLIC
BEGIN:VALARM
TRIGGER:-P1D
ACTION:DISPLAY
DESCRIPTION:Reminder
END:VALARM
END:VEVENT
END:VCALENDAR